BEGIN:VCALENDAR
VERSION:2.0
PRODID:-//Duchess International Magazine - ECPv6.15.13//NONSGML v1.0//EN
CALSCALE:GREGORIAN
METHOD:PUBLISH
X-ORIGINAL-URL:https://duchessinternationalmagazine.com
X-WR-CALDESC:Events for Duchess International Magazine
REFRESH-INTERVAL;VALUE=DURATION:PT1H
X-Robots-Tag:noindex
X-PUBLISHED-TTL:PT1H
BEGIN:VTIMEZONE
TZID:UTC
BEGIN:STANDARD
TZOFFSETFROM:+0000
TZOFFSETTO:+0000
TZNAME:UTC
DTSTART:20240101T000000
END:STANDARD
END:VTIMEZONE
BEGIN:VTIMEZONE
TZID:Africa/Nairobi
BEGIN:STANDARD
TZOFFSETFROM:+0300
TZOFFSETTO:+0300
TZNAME:EAT
DTSTART:20230101T000000
END:STANDARD
END:VTIMEZONE
BEGIN:VEVENT
DTSTART;VALUE=DATE:20250423
DTEND;VALUE=DATE:20250427
DTSTAMP:20260421T101429
CREATED:20241223T010841Z
LAST-MODIFIED:20250331T220221Z
UID:32325-1745366400-1745711999@duchessinternationalmagazine.com
SUMMARY:Duchess International Women's Day Conference 2025
DESCRIPTION:Empowering Women: A Conference for Change \nJoin us this International Women’s Day for a groundbreaking conference that goes beyond celebration to empowerment and action. Our event is dedicated to addressing the multifaceted challenges faced by women\, from economic barriers and limited political representation to educational inequalities and gender-based violence. With roots often entangled in culture and tradition\, these issues demand a united front. \nWhy Attend? \nShare and Learn: Engage in meaningful discussions\, share your experiences\, and learn from the stories of others. \n– Access Resources:Discover a wealth of resources tailored to help women overcome systemic barriers and unlock their full potential. \n– Foster Change: Participate in dialogues aimed at changing narratives and dismantling the cultural foundations of gender inequity. \n– Network and Grow:Connect with like-minded individuals and organizations committed to making a difference in the lives of women worldwide. \nOur conference provides a unique opportunity for women to come together\, share ideas\, and gain the knowledge and tools needed to soar. We are committed to creating a world where women are recognized for their invaluable contributions to society and are given the space to grow and contribute to global development. \nPayment Details \nPlease make your payments into any of these accounts; \nPound Sterling\nDuchess International Magazine\nLloyd\nSort Code: 309950\nAcct Number: 25834563 \nDollars\nCustodian Global Consult\n0621171480\nWema Bank \nNigeria\nCustodian Global Consult\n0124007572\nWema Bank \nAfter payment\, share your payment receipt to any of the following contacts; +447456382002\, +2348109271666 \nJoin Us in Making a Difference \nBe part of a movement that celebrates women’s achievements and tackles the challenges head-on. Together\, we can change narratives and pave the way for a more inclusive and equitable world. Your voice matters\, and this International Women’s Day\, let’s unite to amplify it. \nInternational Women’s Day Conference 2023 Gallery \n     \nRegistration \n\n\n\n\nContact Us\n\n\n\n\n\n\n\n\n	Name\n		*\n	\n	\n	First\n	\n\n\n	Last\n		*\n	\n	\n	Last\n	\n\n\n	Email\n		*\n	\n	\n	\n	\n\n\n	Subject\n		*\n	\n	\n	\n	\n\n\n	Message\n		*\n	\n	\n	\n	\n\n\n	\nSubmit\n\n\n\n\n\n	\n			\n			\n				If you are human\, leave this field blank.			\n			\n		\n		\n\n\n\n\n\n\nPurchase Tickets
URL:https://duchessinternationalmagazine.com/event/duchess-international-womens-day-conference-2025/
LOCATION:Route de la Corniche Ouest\, Route de la Corniche Ouest\, Région de Dakar\, Senegal
ATTACH;FMTTYPE=image/jpeg:https://duchessinternationalmagazine.com/wp-content/uploads/2024/12/Duchess2025Speaker.jpg
ORGANIZER;CN="Custodian Global Consult":MAILTO:info@custodianconsult.com
END:VEVENT
BEGIN:VEVENT
DTSTART;VALUE=DATE:20240417
DTEND;VALUE=DATE:20240421
DTSTAMP:20260421T101429
CREATED:20240222T074755Z
LAST-MODIFIED:20240223T082213Z
UID:29473-1713312000-1713657599@duchessinternationalmagazine.com
SUMMARY:International Women's Day Conference 2024
DESCRIPTION:Empowering Women: A Conference for Change \nJoin us this International Women’s Day for a groundbreaking conference that goes beyond celebration to empowerment and action. Our event is dedicated to addressing the multifaceted challenges faced by women\, from economic barriers and limited political representation to educational inequalities and gender-based violence. With roots often entangled in culture and tradition\, these issues demand a united front for sustainable change. \nWhy Attend? \n– Share and Learn: Engage in meaningful discussions\, share your experiences\, and learn from the stories of others.\n– Access Resources: Discover a wealth of resources tailored to help women overcome systemic barriers and unlock their full potential.\n– Foster Change: Participate in dialogues aimed at changing narratives and dismantling the cultural foundations of gender inequity.\n– Network and Grow: Connect with like-minded individuals and organizations committed to making a difference in the lives of women worldwide. \nOur conference provides a unique opportunity for women to come together\, share ideas\, and gain the knowledge and tools needed to soar. We are committed to creating a world where women are recognized for their invaluable contributions to society and are given the space to grow and contribute to global development. \nJoin Us in Making a Difference \nBe part of a movement that celebrates women’s achievements and tackles the challenges head-on. Together\, we can change narratives and pave the way for a more inclusive and equitable world. Your voice matters\, and this International Women’s Day\, let’s unite to amplify it. \n     \n  \n                                                                                                                                     Register
URL:https://duchessinternationalmagazine.com/event/international-womens-day-conference-2024/
LOCATION:Raddison Blu Hotel\, Upper Hill\, Elgon Road\, Nairobi\, Kenya
ATTACH;FMTTYPE=image/jpeg:https://duchessinternationalmagazine.com/wp-content/uploads/2024/02/featured-2.jpg
ORGANIZER;CN="Custodian Global Consult":MAILTO:info@custodianconsult.com
END:VEVENT
END:VCALENDAR